BEGIN:VCALENDAR
VERSION:2.0
PRODID:-//wp-events-plugin.com//7.2.3.1//EN
TZID:Europe/Paris
X-WR-TIMEZONE:Europe/Paris
BEGIN:VEVENT
UID:411@mjc-mpt-gresivaudan.fr
DTSTART;TZID=Europe/Paris:20230306T083000
DTEND;TZID=Europe/Paris:20230310T123000
DTSTAMP:20230109T170327Z
URL:https://www.mjc-mpt-gresivaudan.fr/events/stage-tapissier-2/
SUMMARY:Stage tapissier
DESCRIPTION:Vous rêvez de restaurer un fauteuil chiné sur une brocante ou
  hérité de grands-parents ?\n\nFlorence Jourdain vous propose de vous in
 itier à la pratique du tapissier.\n\nElle est tapissier et a installé so
 n atelier à La Terrasse en 2021. Elle rénove sièges\, fauteuils et donn
 e des cours.\n\nFlorence vous propose un stage d'initiation à la rénovat
 ion de sièges la semaine du 6 au 10 mars.\n\nElle suggère de travailler 
 sur un fauteuil de type bridge car sa technique est simple et\nles stagiai
 res auront la satisfaction de repartir à la fin de la semaine avec l'obje
 t fini.\n\nFlorence prête les outils et fournit les matériaux. Vous vene
 z avec votre tissu (mais elle\npeut vous en proposer si vous préférez) e
 t votre fauteuil.\n\nLe stage se déroule à La Terrasse (le lieu sera dé
 fini en fonction du nombre de stagiaires).\n\nN'hésitez pas à contacter 
 Florence par mail\, pour de plus amples renseignements.\n\n&nbsp\;
CATEGORIES:MJC de La Terrasse
END:VEVENT
BEGIN:VTIMEZONE
TZID:Europe/Paris
X-LIC-LOCATION:Europe/Paris
BEGIN:STANDARD
DTSTART:20221030T020000
TZOFFSETFROM:+0200
TZOFFSETTO:+0100
TZNAME:CET
END:STANDARD
END:VTIMEZONE
END:VCALENDAR