BEGIN:VCALENDAR
VERSION:2.0
PRODID:-//wp-events-plugin.com//7.2.3.1//EN
TZID:Europe/Paris
X-WR-TIMEZONE:Europe/Paris
BEGIN:VEVENT
UID:117@mjc-mpt-gresivaudan.fr
DTSTART;TZID=Europe/Paris:20190502T184500
DTEND;TZID=Europe/Paris:20190613T210000
DTSTAMP:20190424T180045Z
URL:https://www.mjc-mpt-gresivaudan.fr/events/seances-dessais-a-la-zumba/
SUMMARY:Séances d'essais à la Zumba
DESCRIPTION:La MJC Lumbin vous propose des séances d'essai à la Zumba les
  jeudi 2 mai\, 23 mai et 13 juin 2019 pour 5€ / séances.\nLes séances 
 se dérouleront de 18H45 à 20H15 à la Salle Icare à Lumbin.\n\nCelles-c
 i seront animées par Agnès de Buttet dont vous pouvez consulter sa page 
 sur le site officiel de la Zumba : https://www.zumba.com/fr-FR/profile/ag
 nes-de-buttet/1210935\n\nSi vous êtes intéressé\, télécharger le form
 ulaire d'inscription\, remplissez le et déposez le avec le chèque dans l
 a boite aux lettres de la MJC Lumbin.\n\n&nbsp\;
CATEGORIES:MJC de Lumbin
LOCATION:Espace Icare\, D1090\, Lumbin\, France
GEO:45.3057371;5.909950600000002
X-APPLE-STRUCTURED-LOCATION;VALUE=URI;X-ADDRESS=D1090\, Lumbin\, France;X-A
 PPLE-RADIUS=100;X-TITLE=Espace Icare:geo:45.3057371,5.909950600000002
END:VEVENT
BEGIN:VTIMEZONE
TZID:Europe/Paris
X-LIC-LOCATION:Europe/Paris
BEGIN:DAYLIGHT
DTSTART:20190331T030000
TZOFFSETFROM:+0100
TZOFFSETTO:+0200
TZNAME:CEST
END:DAYLIGHT
END:VTIMEZONE
END:VCALENDAR