BEGIN:VCALENDAR
VERSION:2.0
PRODID:-//wp-events-plugin.com//7.2.3.1//EN
TZID:Europe/Paris
X-WR-TIMEZONE:Europe/Paris
BEGIN:VEVENT
UID:741@mjc-mpt-gresivaudan.fr
DTSTART;TZID=Europe/Paris:20250607T140000
DTEND;TZID=Europe/Paris:20250607T220000
DTSTAMP:20250601T062840Z
URL:https://www.mjc-mpt-gresivaudan.fr/events/festival-palindrome-3/
SUMMARY:Festival PALINDROME
DESCRIPTION:"Palindrome est un festival haut perché qui donne à vivre le 
 théâtre contemporain\,\npar les jeunes et pour les jeunes\,\nau travers 
 de spectacles\, de rencontres\, d'ateliers :\nde quoi RêveR dans tous les
  sens".
CATEGORIES:MJC de Sainte Agnès
END:VEVENT
BEGIN:VTIMEZONE
TZID:Europe/Paris
X-LIC-LOCATION:Europe/Paris
BEGIN:DAYLIGHT
DTSTART:20250330T030000
TZOFFSETFROM:+0100
TZOFFSETTO:+0200
TZNAME:CEST
END:DAYLIGHT
END:VTIMEZONE
END:VCALENDAR