BEGIN:VCALENDAR
VERSION:2.0
PRODID:-//wp-events-plugin.com//7.2.3.1//EN
TZID:Europe/Paris
X-WR-TIMEZONE:Europe/Paris
BEGIN:VEVENT
UID:300@mjc-mpt-gresivaudan.fr
DTSTART;TZID=Europe/Paris:20211021T110000
DTEND;TZID=Europe/Paris:20211021T130000
DTSTAMP:20211007T131824Z
URL:https://www.mjc-mpt-gresivaudan.fr/events/cuisine-japonaise-5/
SUMMARY:cuisine japonaise
DESCRIPTION:Pour la découverte et les amoureux de la gastronomie...\n\nEn 
 savoir plus clic ici  Okonomiyaki_Shiratama_affiche_21Oct2021_MPT
CATEGORIES:MPT de Biviers
LOCATION:salle St Eynard\, 209 chemin griveliere\, biviers\, 38330\, France
GEO:45.2378394;5.8060375
X-APPLE-STRUCTURED-LOCATION;VALUE=URI;X-ADDRESS=209 chemin griveliere\, biv
 iers\, 38330\, France;X-APPLE-RADIUS=100;X-TITLE=salle St Eynard:geo:45.23
 78394,5.8060375
END:VEVENT
BEGIN:VTIMEZONE
TZID:Europe/Paris
X-LIC-LOCATION:Europe/Paris
BEGIN:DAYLIGHT
DTSTART:20210328T030000
TZOFFSETFROM:+0100
TZOFFSETTO:+0200
TZNAME:CEST
END:DAYLIGHT
END:VTIMEZONE
END:VCALENDAR